BEGIN:VCALENDAR
VERSION:2.0
PRODID:TypiCMS
BEGIN:VEVENT
UID:69ea7de8566a5
DTSTART;VALUE=DATE:20211014
SEQUENCE:0
TRANSP:OPAQUE
DTEND;VALUE=DATE:20211015
URL:https://cleanbusplatform.eu/news-and-events/events/hydrogen-buses-their
 -time-is-now
SUMMARY:Hydrogen buses. Their time is… now?
CLASS:PUBLIC
X-MICROSOFT-CDO-ALLDAYEVENT:TRUE
DTSTAMP:20260423T201536Z
END:VEVENT
END:VCALENDAR