BEGIN:VCALENDAR
VERSION:2.0
PRODID:TypiCMS
BEGIN:VEVENT
UID:69e89fd89f7e7
DTSTART;VALUE=DATE:20220519
SEQUENCE:0
TRANSP:OPAQUE
DTEND;VALUE=DATE:20220520
URL:https://cleanbusplatform.eu/news-and-events/events/webinar-european-pol
 icy-framework-for-clean-bus-deployment-understanding-the-clean-vehicles-di
 rective
SUMMARY:CBEP Webinar: EU policy framework for clean bus deployment: Underst
 anding the CVD
CLASS:PUBLIC
X-MICROSOFT-CDO-ALLDAYEVENT:TRUE
DTSTAMP:20260422T101552Z
END:VEVENT
END:VCALENDAR