BEGIN:VCALENDAR
VERSION:2.0
PRODID:TypiCMS
BEGIN:VEVENT
UID:69e517432631c
DTSTART;VALUE=DATE:20220908
SEQUENCE:0
TRANSP:OPAQUE
DTEND;VALUE=DATE:20220909
URL:https://cleanbusplatform.eu/news-and-events/events/webinar-technology-f
 ocus-natural-gas-buses
SUMMARY:Webinar - Technology focus: Natural Gas & Biomethane
CLASS:PUBLIC
X-MICROSOFT-CDO-ALLDAYEVENT:TRUE
DTSTAMP:20260419T175619Z
END:VEVENT
END:VCALENDAR